BEGIN:VCALENDAR
VERSION:2.0
PRODID:-//dist145ffe.org//NONSGML kigkonsult.se iCalcreator 2.30.10//
CALSCALE:GREGORIAN
METHOD:PUBLISH
UID:e4e8d38a-d478-4af9-802c-addba7b08ec6
X-WR-CALDESC:Let's gather to golf. The secret behind any good event is grea
 t attendees like YOU! Nestled into an old tree farm\, Woodland Hills Golf 
 Course offers terrific views and unique play for golfers at every skill le
 vel.\n\nThe Foundation for Education promotes the achievement and success 
 of public-school students living in the 300 square-mile area comprising Sc
 hool District 145\, serving the communities of Alvo\, Eagle\, Prairie Home
 \, Walton and Waverly.  We're in pursuit of educational excellence.  JOIN 
 US.\n\n
X-WR-RELCALID:316152df93269d834d7d25e1a7818733
X-WR-TIMEZONE:America/Chicago
BEGIN:VTIMEZONE
TZID:America/Chicago
BEGIN:STANDARD
TZNAME:CST
DTSTART:20231105T020000
TZOFFSETFROM:-0500
TZOFFSETTO:-0600
RDATE:20241103T020000
RDATE:20251102T020000
END:STANDARD
BEGIN:DAYLIGHT
TZNAME:CDT
DTSTART:20240310T020000
TZOFFSETFROM:-0600
TZOFFSETTO:-0500
RDATE:20250309T020000
END:DAYLIGHT
END:VTIMEZONE
BEGIN:VEVENT
UID:ec367010-ec4b-4d11-b8ad-20ae02228e3e
DTSTAMP:20260422T053807Z
DESCRIPTION:Let's gather to golf. The secret behind any good event is great
  attendees like YOU! Nestled into an old tree farm\, Woodland Hills Golf C
 ourse offers terrific views and unique play for golfers at every skill lev
 el.\n\nThe Foundation for Education promotes the achievement and success o
 f public-school students living in the 300 square-mile area comprising Sch
 ool District 145\, serving the communities of Alvo\, Eagle\, Prairie Home\
 , Walton and Waverly.  We're in pursuit of educational excellence.  JOIN U
 S.\n\n
DTSTART;TZID=America/Chicago:20240719T140000
DTEND;TZID=America/Chicago:20240719T193000
LOCATION:6000 Woodland Hills Dr\, Eagle\, NE 68347 US
SUMMARY:1-FORE-5 Scramble
END:VEVENT
END:VCALENDAR
