BEGIN:VCALENDAR
VERSION:2.0
PRODID:-//dist145ffe.org//NONSGML kigkonsult.se iCalcreator 2.30.10//
CALSCALE:GREGORIAN
METHOD:PUBLISH
UID:1b3561a9-5007-4e1c-ade2-738879c04982
X-WR-CALDESC:Our Foundation will host Trivia Night on Saturday\, November 1
 6\, 2024. Teams of 6 people will compete through 8 rounds of trivia contai
 ning 10 questions each. The winning team earns bragging rights and double 
 their entry fee money as the grand prize!\n\nAdult beverages\, soda\, wate
 r\, and snacks will be available for cash donations. Doors open at 6:30 PM
  \; trivia starts at 7 PM.\n\nWe welcome players of all ages but will enfo
 rce the following rules to ensure the safety and enjoyment of all attendee
 s:\n1.	While a team can be comprised solely of students\, the person regist
 ering any team must be 19 years of age or older.\n2.	ID’s will be required 
 at the event to obtain a wrist band for consuming adult beverages. \n3.	Any
  players aged 14 or under must be accompanied by a parent or guardian thro
 ughout the evening.\n\nThis will be a FUN event to support the many progra
 ms that the Foundation for Education operates to enhance the educational o
 utcomes of students in our school district. It is also a COMPETITION\, so 
 the use of electronic devices (e.g.\, cell phones) will not be allowed dur
 ing game play!\n
X-WR-RELCALID:6ef40dc239a747bbcd41a3ecd19e85a9
X-WR-TIMEZONE:America/Chicago
BEGIN:VTIMEZONE
TZID:America/Chicago
BEGIN:STANDARD
TZNAME:CST
DTSTART:20241103T020000
TZOFFSETFROM:-0500
TZOFFSETTO:-0600
RDATE:20251102T020000
END:STANDARD
BEGIN:DAYLIGHT
TZNAME:CDT
DTSTART:20240310T020000
TZOFFSETFROM:-0600
TZOFFSETTO:-0500
RDATE:20250309T020000
RDATE:20260308T020000
END:DAYLIGHT
END:VTIMEZONE
BEGIN:VEVENT
UID:2957571f-b604-4bf7-83bf-2b81724927bc
DTSTAMP:20260421T233417Z
DESCRIPTION:Our Foundation will host Trivia Night on Saturday\, November 16
 \, 2024. Teams of 6 people will compete through 8 rounds of trivia contain
 ing 10 questions each. The winning team earns bragging rights and double t
 heir entry fee money as the grand prize!\n\nAdult beverages\, soda\, water
 \, and snacks will be available for cash donations. Doors open at 6:30 PM 
 \; trivia starts at 7 PM.\n\nWe welcome players of all ages but will enfor
 ce the following rules to ensure the safety and enjoyment of all attendees
 :\n1.	While a team can be comprised solely of students\, the person registe
 ring any team must be 19 years of age or older.\n2.	ID’s will be required a
 t the event to obtain a wrist band for consuming adult beverages. \n3.	Any 
 players aged 14 or under must be accompanied by a parent or guardian throu
 ghout the evening.\n\nThis will be a FUN event to support the many program
 s that the Foundation for Education operates to enhance the educational ou
 tcomes of students in our school district. It is also a COMPETITION\, so t
 he use of electronic devices (e.g.\, cell phones) will not be allowed duri
 ng game play!\n
DTSTART;TZID=America/Chicago:20241116T190000
DTEND;TZID=America/Chicago:20241116T220000
LOCATION:14650 Woodstock Blvd.\, Waverly\, NE 68462 US
SUMMARY:Trivia Night
END:VEVENT
END:VCALENDAR
