BEGIN:VCALENDAR
VERSION:2.0
PRODID:-//dist145ffe.org//NONSGML kigkonsult.se iCalcreator 2.30.10//
CALSCALE:GREGORIAN
METHOD:PUBLISH
UID:f5915b20-bcbf-4892-a684-e301b777b485
X-WR-CALDESC:Our Foundation will host Trivia Night on Saturday\, April 5\, 
 2025. Teams of 6 people will compete through 8 rounds of trivia containing
  10 questions each. The winning team earns bragging rights and double thei
 r entry fee money as the grand prize!\n\nAdult beverages\, soda\, water\, 
 and snacks will be available for cash donations. Doors open at 6:30 PM \; 
 trivia starts at 7 PM.\n\nWe welcome players of all ages but will enforce 
 the following rules to ensure the safety and enjoyment of all attendees:\n
 1.	While a team can be comprised solely of students\, the person registerin
 g any team must be 19 years of age or older.\n2.	ID’s will be required at t
 he event to obtain a wrist band for consuming adult beverages. \n3.	Any pla
 yers aged 14 or under must be accompanied by a parent or guardian througho
 ut the evening.\n4.     No outside food or beverages may be taken inside t
 he Wave facility.\n\nThis will be a FUN event to support the many programs
  that the Foundation for Education operates to enhance the educational out
 comes of students in our school district. It is also a COMPETITION\, so th
 e use of electronic devices (e.g.\, cell phones) will not be allowed durin
 g game play!\n
X-WR-RELCALID:02a9eb8d452f18336918dd816a90bad6
X-WR-TIMEZONE:America/Chicago
BEGIN:VTIMEZONE
TZID:America/Chicago
BEGIN:STANDARD
TZNAME:CST
DTSTART:20241103T020000
TZOFFSETFROM:-0500
TZOFFSETTO:-0600
RDATE:20251102T020000
END:STANDARD
BEGIN:DAYLIGHT
TZNAME:CDT
DTSTART:20250309T020000
TZOFFSETFROM:-0600
TZOFFSETTO:-0500
RDATE:20260308T020000
END:DAYLIGHT
END:VTIMEZONE
BEGIN:VEVENT
UID:f9040b58-2706-4d26-b0b7-c55a4d23bd55
DTSTAMP:20260421T161411Z
DESCRIPTION:Our Foundation will host Trivia Night on Saturday\, April 5\, 2
 025. Teams of 6 people will compete through 8 rounds of trivia containing 
 10 questions each. The winning team earns bragging rights and double their
  entry fee money as the grand prize!\n\nAdult beverages\, soda\, water\, a
 nd snacks will be available for cash donations. Doors open at 6:30 PM \; t
 rivia starts at 7 PM.\n\nWe welcome players of all ages but will enforce t
 he following rules to ensure the safety and enjoyment of all attendees:\n1
 .	While a team can be comprised solely of students\, the person registering
  any team must be 19 years of age or older.\n2.	ID’s will be required at th
 e event to obtain a wrist band for consuming adult beverages. \n3.	Any play
 ers aged 14 or under must be accompanied by a parent or guardian throughou
 t the evening.\n4.     No outside food or beverages may be taken inside th
 e Wave facility.\n\nThis will be a FUN event to support the many programs 
 that the Foundation for Education operates to enhance the educational outc
 omes of students in our school district. It is also a COMPETITION\, so the
  use of electronic devices (e.g.\, cell phones) will not be allowed during
  game play!\n
DTSTART;TZID=America/Chicago:20250405T190000
DTEND;TZID=America/Chicago:20250405T220000
LOCATION:14650 Woodstock Blvd.\, Waverly\, NE 68462 US
SUMMARY:CANCELLED Trivia Night
END:VEVENT
END:VCALENDAR
