BEGIN:VCALENDAR
VERSION:2.0
PRODID:-//dist145ffe.org//NONSGML kigkonsult.se iCalcreator 2.30.10//
CALSCALE:GREGORIAN
METHOD:PUBLISH
UID:f0e18a30-0093-469c-8d76-24e7545c805e
X-WR-CALDESC:Let's gather to golf. The secret behind any good event is grea
 t attendees like YOU! Nestled into an old tree farm\, Woodland Hills Golf 
 Course offers terrific views and unique play for golfers at every skill le
 vel.\n\nThe Foundation for Education promotes the achievement and success 
 of public-school students living in the 300 square-mile area comprising Sc
 hool District 145\, serving the communities of Alvo\, Eagle\, Prairie Home
 \, Walton and Waverly.  We're in pursuit of educational excellence.  JOIN 
 US.\n\n
X-WR-RELCALID:621e9d5a53d867ca2675ee6c72bdd651
X-WR-TIMEZONE:America/Chicago
BEGIN:VTIMEZONE
TZID:America/Chicago
BEGIN:STANDARD
TZNAME:CST
DTSTART:20241103T020000
TZOFFSETFROM:-0500
TZOFFSETTO:-0600
RDATE:20251102T020000
RDATE:20261101T020000
END:STANDARD
BEGIN:DAYLIGHT
TZNAME:CDT
DTSTART:20250309T020000
TZOFFSETFROM:-0600
TZOFFSETTO:-0500
RDATE:20260308T020000
END:DAYLIGHT
END:VTIMEZONE
BEGIN:VEVENT
UID:af49f7d0-34d0-45e9-bd78-771b2b4f2d68
DTSTAMP:20260421T113829Z
DESCRIPTION:Let's gather to golf. The secret behind any good event is great
  attendees like YOU! Nestled into an old tree farm\, Woodland Hills Golf C
 ourse offers terrific views and unique play for golfers at every skill lev
 el.\n\nThe Foundation for Education promotes the achievement and success o
 f public-school students living in the 300 square-mile area comprising Sch
 ool District 145\, serving the communities of Alvo\, Eagle\, Prairie Home\
 , Walton and Waverly.  We're in pursuit of educational excellence.  JOIN U
 S.\n\n
DTSTART;TZID=America/Chicago:20250725T140000
DTEND;TZID=America/Chicago:20250725T193000
LOCATION:6000 Woodland Hills Dr\, Eagle\, NE 68347 US
SUMMARY:1-FORE-5 Scramble
END:VEVENT
END:VCALENDAR
