BEGIN:VCALENDAR
VERSION:2.0
PRODID:-//dist145ffe.org//NONSGML kigkonsult.se iCalcreator 2.30.10//
CALSCALE:GREGORIAN
METHOD:PUBLISH
UID:bc4da02e-2c2f-441e-8e74-2216dc7e2a08
X-WR-CALDESC:
X-WR-RELCALID:2595dac0ed08478a1f1d45161c03aa24
X-WR-TIMEZONE:America/Chicago
BEGIN:VTIMEZONE
TZID:America/Chicago
BEGIN:STANDARD
TZNAME:CST
DTSTART:20251102T020000
TZOFFSETFROM:-0500
TZOFFSETTO:-0600
RDATE:20261101T020000
END:STANDARD
BEGIN:DAYLIGHT
TZNAME:CDT
DTSTART:20250309T020000
TZOFFSETFROM:-0600
TZOFFSETTO:-0500
RDATE:20260308T020000
RDATE:20270314T020000
END:DAYLIGHT
END:VTIMEZONE
BEGIN:VEVENT
UID:a9368261-efd1-42ae-bd3e-ab6f95ac6462
DTSTAMP:20260423T090712Z
DESCRIPTION:
DTSTART;TZID=America/Chicago:20251119T153000
DTEND;TZID=America/Chicago:20251119T160000
LOCATION:
SUMMARY:Holiday Wishes Forms Due
END:VEVENT
END:VCALENDAR
